BEGIN:VCALENDAR
VERSION:2.0
PRODID:-//Tukios.com/
BEGIN:VEVENT
UID:3b29f62b-532e-44cf-907c-a56c56947751@www.duganfh.com
DTSTAMP:20260424T211415Z
DTSTART:20260507T160000Z
DTEND:20260507T170000Z
SUMMARY:Memorial Service
DESCRIPTION:
URL:https://www.duganfh.com/obituaries/andrew-orndorff
LOCATION: 111 South Main Street  Bendersville PA 17306
GEO:39.9819166;-77.249142
END:VEVENT
END:VCALENDAR