BEGIN:VCALENDAR
VERSION:2.0
PRODID:-//Tukios.com/
BEGIN:VEVENT
UID:9820a343-b4fb-46fb-bf1b-c2881761e220@www.duganfh.com
DTSTAMP:20260423T230951Z
DTSTART:20260428T160000Z
DTEND:20260428T170000Z
SUMMARY:Graveside Service
DESCRIPTION:
URL:https://www.duganfh.com/obituaries/gene-helman
LOCATION:Lincoln Cemetery 948 Lincoln Way East  Chambersburg PA 17201
GEO:39.9308073;-77.6444174
END:VEVENT
END:VCALENDAR