BEGIN:VCALENDAR
VERSION:2.0
PRODID:-//Tukios.com/
BEGIN:VEVENT
UID:bfa4729b-2791-48da-a64e-c75805972245@www.duganfh.com
DTSTAMP:20260420T081251Z
DTSTART:20260417T220000Z
DTEND:20260417T230000Z
SUMMARY:Funeral Service
DESCRIPTION:
URL:https://www.duganfh.com/obituaries/rickey-gossert
LOCATION: 51 Asper Dr  Shippensburg PA 17257
GEO:40.0476823;-77.5004205
END:VEVENT
END:VCALENDAR